BEGIN:VCALENDAR
VERSION:2.0
PRODID:-//eventon.com NONSGML v1.0//EN
CALSCALE:GREGORIAN
METHOD:PUBLISH
BEGIN:VEVENT
UID:69eac0eb4c578
DTSTAMP:20260424T010131Z
DTSTART:20200817
DTEND:20200818
LOCATION:
SUMMARY:Chicago
DESCRIPTION:August 17-18\nhttps://heartofg-d.org/events/chicago/
URL:https://heartofg-d.org/events/chicago/
END:VEVENT
END:VCALENDAR