BEGIN:VCALENDAR
VERSION:2.0
PRODID:-//eventon.com NONSGML v1.0//EN
CALSCALE:GREGORIAN
METHOD:PUBLISH
BEGIN:VEVENT
UID:69ec181da625d
DTSTAMP:20260425T012549Z
DTSTART:20210802
DTEND:20210803
LOCATION:
SUMMARY:Ohio meeting
DESCRIPTION:Ohio meeting\nhttps://heartofg-d.org/events/ohio-meeting-4/
URL:https://heartofg-d.org/events/ohio-meeting-4/
END:VEVENT
END:VCALENDAR